BEGIN:VCALENDAR
VERSION:2.0
PRODID:-//Val Quentin - ECPv6.15.20//NONSGML v1.0//EN
CALSCALE:GREGORIAN
METHOD:PUBLISH
X-ORIGINAL-URL:https://valquentin.ca
X-WR-CALDESC:Events for Val Quentin
REFRESH-INTERVAL;VALUE=DURATION:PT1H
X-Robots-Tag:noindex
X-PUBLISHED-TTL:PT1H
BEGIN:VTIMEZONE
TZID:America/Edmonton
BEGIN:DAYLIGHT
TZOFFSETFROM:-0700
TZOFFSETTO:-0600
TZNAME:MDT
DTSTART:20210314T090000
END:DAYLIGHT
BEGIN:STANDARD
TZOFFSETFROM:-0600
TZOFFSETTO:-0700
TZNAME:MST
DTSTART:20211107T080000
END:STANDARD
BEGIN:DAYLIGHT
TZOFFSETFROM:-0700
TZOFFSETTO:-0600
TZNAME:MDT
DTSTART:20220313T090000
END:DAYLIGHT
BEGIN:STANDARD
TZOFFSETFROM:-0600
TZOFFSETTO:-0700
TZNAME:MST
DTSTART:20221106T080000
END:STANDARD
BEGIN:DAYLIGHT
TZOFFSETFROM:-0700
TZOFFSETTO:-0600
TZNAME:MDT
DTSTART:20230312T090000
END:DAYLIGHT
BEGIN:STANDARD
TZOFFSETFROM:-0600
TZOFFSETTO:-0700
TZNAME:MST
DTSTART:20231105T080000
END:STANDARD
END:VTIMEZONE
BEGIN:VEVENT
DTSTART;TZID=America/Edmonton:20220315T190000
DTEND;TZID=America/Edmonton:20220315T200000
DTSTAMP:20260422T030640
CREATED:20220307T144456Z
LAST-MODIFIED:20220307T144456Z
UID:2280-1647370800-1647374400@valquentin.ca
SUMMARY:Lac Ste. Anne SV Regionalization Study
DESCRIPTION:The Summer Villages on Lac St. Anne have been working together to explore governance options in an effort to improve service delivery\, decrease costs\, and improve municipal efficiency. A draft framework has been developed based on input from each of the municipalities and the public. We will be sharing the recommendations with all summer village communities at an upcoming virtual public engagement event and we are looking for your feedback. \nJoin us online on Tuesday\, March 15\, 2022\, from 7 – 8 p.m. to learn about the framework\, ask questions and provide your feedback. Please register for this event using this link. A meeting link will be sent to you following your registration\, closer to the event date. \nIn addition to the virtual public engagement event\, residents are invited to provide their feedback online from March 15 – March 22\, 2022\, here. \nVisit lacsteanne-svrs.com for more information.
URL:https://valquentin.ca/event/lac-ste-anne-sv-regionalization-study/
END:VEVENT
END:VCALENDAR