BEGIN:VCALENDAR
VERSION:2.0
PRODID:-//Val Quentin - ECPv6.15.20//NONSGML v1.0//EN
CALSCALE:GREGORIAN
METHOD:PUBLISH
X-WR-CALNAME:Val Quentin
X-ORIGINAL-URL:https://valquentin.ca
X-WR-CALDESC:Events for Val Quentin
REFRESH-INTERVAL;VALUE=DURATION:PT1H
X-Robots-Tag:noindex
X-PUBLISHED-TTL:PT1H
BEGIN:VTIMEZONE
TZID:America/Edmonton
BEGIN:DAYLIGHT
TZOFFSETFROM:-0700
TZOFFSETTO:-0600
TZNAME:MDT
DTSTART:20210314T090000
END:DAYLIGHT
BEGIN:STANDARD
TZOFFSETFROM:-0600
TZOFFSETTO:-0700
TZNAME:MST
DTSTART:20211107T080000
END:STANDARD
BEGIN:DAYLIGHT
TZOFFSETFROM:-0700
TZOFFSETTO:-0600
TZNAME:MDT
DTSTART:20220313T090000
END:DAYLIGHT
BEGIN:STANDARD
TZOFFSETFROM:-0600
TZOFFSETTO:-0700
TZNAME:MST
DTSTART:20221106T080000
END:STANDARD
BEGIN:DAYLIGHT
TZOFFSETFROM:-0700
TZOFFSETTO:-0600
TZNAME:MDT
DTSTART:20230312T090000
END:DAYLIGHT
BEGIN:STANDARD
TZOFFSETFROM:-0600
TZOFFSETTO:-0700
TZNAME:MST
DTSTART:20231105T080000
END:STANDARD
END:VTIMEZONE
BEGIN:VEVENT
DTSTART;TZID=America/Edmonton:20221116T190000
DTEND;TZID=America/Edmonton:20221116T213000
DTSTAMP:20260421T152852
CREATED:20221102T004642Z
LAST-MODIFIED:20221111T045158Z
UID:2617-1668625200-1668634200@valquentin.ca
SUMMARY:Val Quentin Council Meeting
DESCRIPTION:_Agenda November 16\, 2022 Council Meeting SV of Val Quentin
URL:https://valquentin.ca/event/val-quentin-council-meeting-3/
LOCATION:Virtual https://us02web.zoom.us/j/83001487929…\, Alberta Beach Council Chambers\, Alberta Beach\, Alberta\, T0E 0A0\, Canada
ORGANIZER;CN="Village Administration":MAILTO:cao@valquentin.ca
END:VEVENT
END:VCALENDAR