BEGIN:VCALENDAR
VERSION:2.0
PRODID:-//Val Quentin - ECPv6.15.20//NONSGML v1.0//EN
CALSCALE:GREGORIAN
METHOD:PUBLISH
X-ORIGINAL-URL:https://valquentin.ca
X-WR-CALDESC:Events for Val Quentin
REFRESH-INTERVAL;VALUE=DURATION:PT1H
X-Robots-Tag:noindex
X-PUBLISHED-TTL:PT1H
BEGIN:VTIMEZONE
TZID:America/Edmonton
BEGIN:DAYLIGHT
TZOFFSETFROM:-0700
TZOFFSETTO:-0600
TZNAME:MDT
DTSTART:20230312T090000
END:DAYLIGHT
BEGIN:STANDARD
TZOFFSETFROM:-0600
TZOFFSETTO:-0700
TZNAME:MST
DTSTART:20231105T080000
END:STANDARD
BEGIN:DAYLIGHT
TZOFFSETFROM:-0700
TZOFFSETTO:-0600
TZNAME:MDT
DTSTART:20240310T090000
END:DAYLIGHT
BEGIN:STANDARD
TZOFFSETFROM:-0600
TZOFFSETTO:-0700
TZNAME:MST
DTSTART:20241103T080000
END:STANDARD
BEGIN:DAYLIGHT
TZOFFSETFROM:-0700
TZOFFSETTO:-0600
TZNAME:MDT
DTSTART:20250309T090000
END:DAYLIGHT
BEGIN:STANDARD
TZOFFSETFROM:-0600
TZOFFSETTO:-0700
TZNAME:MST
DTSTART:20251102T080000
END:STANDARD
END:VTIMEZONE
BEGIN:VEVENT
DTSTART;TZID=America/Edmonton:20241016T190000
DTEND;TZID=America/Edmonton:20241016T210000
DTSTAMP:20260420T080957
CREATED:20240515T130048Z
LAST-MODIFIED:20240917T173453Z
UID:1419-1729105200-1729112400@valquentin.ca
SUMMARY:Council Meeting
DESCRIPTION:
URL:https://valquentin.ca/event/council-meeting-8/
LOCATION:Virtual https://us02web.zoom.us/j/83001487929…\, Alberta Beach Council Chambers\, Alberta Beach\, Alberta\, T0E 0A0\, Canada
CATEGORIES:Council Meetings
ORGANIZER;CN="Village Administration":MAILTO:cao@valquentin.ca
END:VEVENT
END:VCALENDAR