BEGIN:VCALENDAR
VERSION:2.0
PRODID:-//Val Quentin - ECPv6.15.20//NONSGML v1.0//EN
CALSCALE:GREGORIAN
METHOD:PUBLISH
X-ORIGINAL-URL:https://valquentin.ca
X-WR-CALDESC:Events for Val Quentin
REFRESH-INTERVAL;VALUE=DURATION:PT1H
X-Robots-Tag:noindex
X-PUBLISHED-TTL:PT1H
BEGIN:VTIMEZONE
TZID:America/Edmonton
BEGIN:DAYLIGHT
TZOFFSETFROM:-0700
TZOFFSETTO:-0600
TZNAME:MDT
DTSTART:20220313T090000
END:DAYLIGHT
BEGIN:STANDARD
TZOFFSETFROM:-0600
TZOFFSETTO:-0700
TZNAME:MST
DTSTART:20221106T080000
END:STANDARD
BEGIN:DAYLIGHT
TZOFFSETFROM:-0700
TZOFFSETTO:-0600
TZNAME:MDT
DTSTART:20230312T090000
END:DAYLIGHT
BEGIN:STANDARD
TZOFFSETFROM:-0600
TZOFFSETTO:-0700
TZNAME:MST
DTSTART:20231105T080000
END:STANDARD
BEGIN:DAYLIGHT
TZOFFSETFROM:-0700
TZOFFSETTO:-0600
TZNAME:MDT
DTSTART:20240310T090000
END:DAYLIGHT
BEGIN:STANDARD
TZOFFSETFROM:-0600
TZOFFSETTO:-0700
TZNAME:MST
DTSTART:20241103T080000
END:STANDARD
END:VTIMEZONE
BEGIN:VEVENT
DTSTART;TZID=America/Edmonton:20230315T190000
DTEND;TZID=America/Edmonton:20230315T210000
DTSTAMP:20260421T090635
CREATED:20230215T140002Z
LAST-MODIFIED:20230313T140827Z
UID:2796-1678906800-1678914000@valquentin.ca
SUMMARY:SV of Val Quentin Council Meeting
DESCRIPTION:Join Zoom Meeting https://us02web.zoom.us/j/88521286704?pwd=UTBwS2JySU83N0ZKakVGTFk5cEdXQT09 \nMeeting ID: 885 2128 6704 \nPasscode: 090628 \nCLICK HERE for Agenda Package
URL:https://valquentin.ca/event/https-valquentin-ca-wp-content-uploads-2023-03-agenda-march-15-2023-council-meeting-sv-of-val-quentin-1-pdf/
LOCATION:Virtual https://us02web.zoom.us/j/83001487929…\, Alberta Beach Council Chambers\, Alberta Beach\, Alberta\, T0E 0A0\, Canada
ORGANIZER;CN="Village Administration":MAILTO:cao@valquentin.ca
END:VEVENT
END:VCALENDAR